View In:
ArcGIS JavaScript
ArcGIS Online Map Viewer
ArcGIS Earth
Service Description: C01_URBAN/urb_mdt_2010_102100
Name: C01_URBAN/urb_mdt_2010_102100
Description:
Single Fused Map Cache: false
Extent:
XMin: -5711418.190964908
YMin: -3538390.2083605677
XMax: -5677758.190964908
YMax: -3494358.2083605677
Spatial Reference: 102100
(3857)
LatestVCSWkid(0)
Initial Extent:
XMin: -5711418.190964908
YMin: -3538390.2083605677
XMax: -5677758.190964908
YMax: -3494358.2083605677
Spatial Reference: 102100
(3857)
LatestVCSWkid(0)
Full Extent:
XMin: -5711418.190964908
YMin: -3538390.2083605677
XMax: -5677758.190964908
YMax: -3494358.2083605677
Spatial Reference: 102100
(3857)
LatestVCSWkid(0)
Pixel Size X: 1.0
Pixel Size Y: 1.0
Band Count: 1
Pixel Type: F32
RasterFunction Infos: {"rasterFunctionInfos": [{
"name": "None",
"description": "",
"help": ""
}]}
Mensuration Capabilities: Basic
Inspection Capabilities:
Has Histograms: true
Has Colormap: false
Has Multi Dimensions : false
Rendering Rule:
Min Scale: 5.91657527591555E8
Max Scale: 9027.977411
Min LOD: 0
Max LOD: 16
Copyright Text:
Service Data Type: esriImageServiceDataTypeGeneric
Min Values: -1.277999997138977
Max Values: 310.6300048828125
Mean Values: 43.422035402270204
Standard Deviation Values: 52.023773389903816
Object ID Field:
Fields:
None
Default Mosaic Method: Center
Allowed Mosaic Methods:
SortField:
SortValue: null
Mosaic Operator: First
Default Compression Quality: 75
Default Resampling Method: Bilinear
Max Record Count: null
Max Image Height: 4100
Max Image Width: 15000
Max Download Image Count: null
Max Mosaic Image Count: null
Allow Raster Function: true
Allow Copy: true
Allow Analysis: true
Allow Compute TiePoints: false
Supports Statistics: false
Supports Advanced Queries: false
Use StandardizedQueries: true
Raster Type Infos:
Name: Raster Dataset
Description: Supports all ArcGIS Raster Datasets
Help:
Has Raster Attribute Table: false
Edit Fields Info: null
Ownership Based AccessControl For Rasters: null
Child Resources:
Info
Histograms
Statistics
Key Properties
Legend
Raster Function Infos
Supported Operations:
Export Image
Identify
Measure
Compute Histograms
Compute Statistics Histograms
Get Samples
Compute Class Statistics
Query Boundary
Compute Pixel Location
Compute Angles
Validate
Project