<?xml version="1.0" encoding="UTF-8" standalone="no"?>
<metadata xml:lang="en">
<Esri>
<CreaDate>20230922</CreaDate>
<CreaTime>19084100</CreaTime>
<ArcGISFormat>1.0</ArcGISFormat>
<SyncOnce>FALSE</SyncOnce>
<DataProperties>
<itemProps>
<itemName Sync="TRUE">gisdb.gisdb.urb_mdt_2010_102100</itemName>
<itemLocation>
<linkage Sync="TRUE">Server=10.100.18.14; Service=sde:postgresql:10.100.18.14; Database=gisdb; User=gisdb; Version=sde.DEFAULT</linkage>
<protocol Sync="TRUE">ArcSDE Connection</protocol>
</itemLocation>
<imsContentType Sync="TRUE">002</imsContentType>
<nativeExtBox>
<westBL Sync="TRUE">-5711418.190965</westBL>
<eastBL Sync="TRUE">-5677758.190965</eastBL>
<southBL Sync="TRUE">-3538390.208361</southBL>
<northBL Sync="TRUE">-3494358.208361</northBL>
<exTypeCode Sync="TRUE">1</exTypeCode>
</nativeExtBox>
</itemProps>
<coordRef>
<type Sync="TRUE">Projected</type>
<geogcsn Sync="TRUE">GCS_WGS_1984</geogcsn>
<csUnits Sync="TRUE">Linear Unit: Meter (1.000000)</csUnits>
<projcsn Sync="TRUE">WGS_1984_Web_Mercator_Auxiliary_Sphere</projcsn>
<peXml Sync="TRUE">&lt;ProjectedCoordinateSystem xsi:type='typens:ProjectedCoordinateSystem' xmlns:xsi='http://www.w3.org/2001/XMLSchema-instance' xmlns:xs='http://www.w3.org/2001/XMLSchema' xmlns:typens='http://www.esri.com/schemas/ArcGIS/3.2.0'&gt;&lt;WKT&gt;PROJCS[&amp;quot;WGS_1984_Web_Mercator_Auxiliary_Sphere&amp;quot;,GEOGCS[&amp;quot;GCS_WGS_1984&amp;quot;,DATUM[&amp;quot;D_WGS_1984&amp;quot;,SPHEROID[&amp;quot;WGS_1984&amp;quot;,6378137.0,298.257223563]],PRIMEM[&amp;quot;Greenwich&amp;quot;,0.0],UNIT[&amp;quot;Degree&amp;quot;,0.0174532925199433]],PROJECTION[&amp;quot;Mercator_Auxiliary_Sphere&amp;quot;],PARAMETER[&amp;quot;False_Easting&amp;quot;,0.0],PARAMETER[&amp;quot;False_Northing&amp;quot;,0.0],PARAMETER[&amp;quot;Central_Meridian&amp;quot;,0.0],PARAMETER[&amp;quot;Standard_Parallel_1&amp;quot;,0.0],PARAMETER[&amp;quot;Auxiliary_Sphere_Type&amp;quot;,0.0],UNIT[&amp;quot;Meter&amp;quot;,1.0],AUTHORITY[&amp;quot;EPSG&amp;quot;,3857]]&lt;/WKT&gt;&lt;XOrigin&gt;-20037700&lt;/XOrigin&gt;&lt;YOrigin&gt;-30241100&lt;/YOrigin&gt;&lt;XYScale&gt;148923141.92838538&lt;/XYScale&gt;&lt;ZOrigin&gt;-100000&lt;/ZOrigin&gt;&lt;ZScale&gt;10000&lt;/ZScale&gt;&lt;MOrigin&gt;-100000&lt;/MOrigin&gt;&lt;MScale&gt;10000&lt;/MScale&gt;&lt;XYTolerance&gt;0.001&lt;/XYTolerance&gt;&lt;ZTolerance&gt;0.00020000000000000001&lt;/ZTolerance&gt;&lt;MTolerance&gt;0.00020000000000000001&lt;/MTolerance&gt;&lt;HighPrecision&gt;true&lt;/HighPrecision&gt;&lt;WKID&gt;102100&lt;/WKID&gt;&lt;LatestWKID&gt;3857&lt;/LatestWKID&gt;&lt;/ProjectedCoordinateSystem&gt;</peXml>
</coordRef>
<RasterProperties>
<General>
<PixelDepth Sync="TRUE">32</PixelDepth>
<HasColormap Sync="TRUE">FALSE</HasColormap>
<CompressionType Sync="TRUE">LZW</CompressionType>
<NumBands Sync="TRUE">1</NumBands>
<Format Sync="TRUE">TIFF</Format>
<HasPyramids Sync="TRUE">TRUE</HasPyramids>
<SourceType Sync="TRUE">continuous</SourceType>
<PixelType Sync="TRUE">floating point</PixelType>
<NoDataValue Sync="TRUE">3.4e+38</NoDataValue>
</General>
</RasterProperties>
<lineage>
<Process Date="20230922" Time="190842" ToolSource="c:\program files\arcgis\pro\Resources\ArcToolbox\toolboxes\Data Management Tools.tbx\MosaicToNewRaster">MosaicToNewRaster C:\Users\projeto-smamus\Desktop\Aerolevantamentos\2010\MDS&amp;MDT\MDT\RASTER/MDT_2970-3-T-III_TM-POA.tif;C:\Users\projeto-smamus\Desktop\Aerolevantamentos\2010\MDS&amp;MDT\MDT\RASTER/MDT_2970-3-T-IV_TM-POA.tif;C:\Users\projeto-smamus\Desktop\Aerolevantamentos\2010\MDS&amp;MDT\MDT\RASTER/MDT_2970-3-Z-III_TM-POA.tif;C:\Users\projeto-smamus\Desktop\Aerolevantamentos\2010\MDS&amp;MDT\MDT\RASTER/MDT_2970-3-Z-II_TM-POA.tif;C:\Users\projeto-smamus\Desktop\Aerolevantamentos\2010\MDS&amp;MDT\MDT\RASTER/MDT_2970-3-Z-IV_TM-POA.tif;C:\Users\projeto-smamus\Desktop\Aerolevantamentos\2010\MDS&amp;MDT\MDT\RASTER/MDT_2970-3-Z-I_TM-POA.tif;C:\Users\projeto-smamus\Desktop\Aerolevantamentos\2010\MDS&amp;MDT\MDT\RASTER/MDT_2970-4-P-III_TM-POA.tif;C:\Users\projeto-smamus\Desktop\Aerolevantamentos\2010\MDS&amp;MDT\MDT\RASTER/MDT_2970-4-U-III_TM-POA.tif;C:\Users\projeto-smamus\Desktop\Aerolevantamentos\2010\MDS&amp;MDT\MDT\RASTER/MDT_2970-4-U-II_TM-POA.tif;C:\Users\projeto-smamus\Desktop\Aerolevantamentos\2010\MDS&amp;MDT\MDT\RASTER/MDT_2970-4-U-IV_TM-POA.tif;C:\Users\projeto-smamus\Desktop\Aerolevantamentos\2010\MDS&amp;MDT\MDT\RASTER/MDT_2970-4-U-I_TM-POA.tif;C:\Users\projeto-smamus\Desktop\Aerolevantamentos\2010\MDS&amp;MDT\MDT\RASTER/MDT_2970-4-V-III_TM-POA.tif;C:\Users\projeto-smamus\Desktop\Aerolevantamentos\2010\MDS&amp;MDT\MDT\RASTER/MDT_2970-4-V-II_TM-POA.tif;C:\Users\projeto-smamus\Desktop\Aerolevantamentos\2010\MDS&amp;MDT\MDT\RASTER/MDT_2970-4-V-IV_TM-POA.tif;C:\Users\projeto-smamus\Desktop\Aerolevantamentos\2010\MDS&amp;MDT\MDT\RASTER/MDT_2970-4-V-I_TM-POA.tif;C:\Users\projeto-smamus\Desktop\Aerolevantamentos\2010\MDS&amp;MDT\MDT\RASTER/MDT_2970-4-X-III_TM-POA.tif;C:\Users\projeto-smamus\Desktop\Aerolevantamentos\2010\MDS&amp;MDT\MDT\RASTER/MDT_2970-4-X-II_TM-POA.tif;C:\Users\projeto-smamus\Desktop\Aerolevantamentos\2010\MDS&amp;MDT\MDT\RASTER/MDT_2970-4-X-IV_TM-POA.tif;C:\Users\projeto-smamus\Desktop\Aerolevantamentos\2010\MDS&amp;MDT\MDT\RASTER/MDT_2970-4-X-I_TM-POA.tif;C:\Users\projeto-smamus\Desktop\Aerolevantamentos\2010\MDS&amp;MDT\MDT\RASTER/MDT_2970-4-Y-III_TM-POA.tif;C:\Users\projeto-smamus\Desktop\Aerolevantamentos\2010\MDS&amp;MDT\MDT\RASTER/MDT_2970-4-Y-I_TM-POA.tif;C:\Users\projeto-smamus\Desktop\Aerolevantamentos\2010\MDS&amp;MDT\MDT\RASTER/MDT_2987-1-E-III_TM-POA.tif;C:\Users\projeto-smamus\Desktop\Aerolevantamentos\2010\MDS&amp;MDT\MDT\RASTER/MDT_2987-1-E-II_TM-POA.tif;C:\Users\projeto-smamus\Desktop\Aerolevantamentos\2010\MDS&amp;MDT\MDT\RASTER/MDT_2987-1-E-IV_TM-POA.tif;C:\Users\projeto-smamus\Desktop\Aerolevantamentos\2010\MDS&amp;MDT\MDT\RASTER/MDT_2987-1-J-II_TM-POA.tif;C:\Users\projeto-smamus\Desktop\Aerolevantamentos\2010\MDS&amp;MDT\MDT\RASTER/MDT_2987-1-J-IV_TM-POA.tif;C:\Users\projeto-smamus\Desktop\Aerolevantamentos\2010\MDS&amp;MDT\MDT\RASTER/MDT_2987-1-J-I_TM-POA.tif;C:\Users\projeto-smamus\Desktop\Aerolevantamentos\2010\MDS&amp;MDT\MDT\RASTER/MDT_2987-1-O-II_TM-POA.tif;C:\Users\projeto-smamus\Desktop\Aerolevantamentos\2010\MDS&amp;MDT\MDT\RASTER/MDT_2987-2-A-III_TM-POA.tif;C:\Users\projeto-smamus\Desktop\Aerolevantamentos\2010\MDS&amp;MDT\MDT\RASTER/MDT_2987-2-A-II_TM-POA.tif;C:\Users\projeto-smamus\Desktop\Aerolevantamentos\2010\MDS&amp;MDT\MDT\RASTER/MDT_2987-2-A-IV_TM-POA.tif;C:\Users\projeto-smamus\Desktop\Aerolevantamentos\2010\MDS&amp;MDT\MDT\RASTER/MDT_2987-2-A-I_TM-POA.tif;C:\Users\projeto-smamus\Desktop\Aerolevantamentos\2010\MDS&amp;MDT\MDT\RASTER/MDT_2987-2-B-III_TM-POA.tif;C:\Users\projeto-smamus\Desktop\Aerolevantamentos\2010\MDS&amp;MDT\MDT\RASTER/MDT_2987-2-B-II_TM-POA.tif;C:\Users\projeto-smamus\Desktop\Aerolevantamentos\2010\MDS&amp;MDT\MDT\RASTER/MDT_2987-2-B-IV_TM-POA.tif;C:\Users\projeto-smamus\Desktop\Aerolevantamentos\2010\MDS&amp;MDT\MDT\RASTER/MDT_2987-2-B-I_TM-POA.tif;C:\Users\projeto-smamus\Desktop\Aerolevantamentos\2010\MDS&amp;MDT\MDT\RASTER/MDT_2987-2-C-III_TM-POA.tif;C:\Users\projeto-smamus\Desktop\Aerolevantamentos\2010\MDS&amp;MDT\MDT\RASTER/MDT_2987-2-C-II_TM-POA.tif;C:\Users\projeto-smamus\Desktop\Aerolevantamentos\2010\MDS&amp;MDT\MDT\RASTER/MDT_2987-2-C-IV_TM-POA.tif;C:\Users\projeto-smamus\Desktop\Aerolevantamentos\2010\MDS&amp;MDT\MDT\RASTER/MDT_2987-2-C-I_TM-POA.tif;C:\Users\projeto-smamus\Desktop\Aerolevantamentos\2010\MDS&amp;MDT\MDT\RASTER/MDT_2987-2-D-III_TM-POA.tif;C:\Users\projeto-smamus\Desktop\Aerolevantamentos\2010\MDS&amp;MDT\MDT\RASTER/MDT_2987-2-D-I_TM-POA.tif;C:\Users\projeto-smamus\Desktop\Aerolevantamentos\2010\MDS&amp;MDT\MDT\RASTER/MDT_2987-2-F-III_TM-POA.tif;C:\Users\projeto-smamus\Desktop\Aerolevantamentos\2010\MDS&amp;MDT\MDT\RASTER/MDT_2987-2-F-II_TM-POA.tif;C:\Users\projeto-smamus\Desktop\Aerolevantamentos\2010\MDS&amp;MDT\MDT\RASTER/MDT_2987-2-F-IV_TM-POA.tif;C:\Users\projeto-smamus\Desktop\Aerolevantamentos\2010\MDS&amp;MDT\MDT\RASTER/MDT_2987-2-F-I_TM-POA.tif;C:\Users\projeto-smamus\Desktop\Aerolevantamentos\2010\MDS&amp;MDT\MDT\RASTER/MDT_2987-2-G-III_TM-POA.tif;C:\Users\projeto-smamus\Desktop\Aerolevantamentos\2010\MDS&amp;MDT\MDT\RASTER/MDT_2987-2-G-II_TM-POA.tif;C:\Users\projeto-smamus\Desktop\Aerolevantamentos\2010\MDS&amp;MDT\MDT\RASTER/MDT_2987-2-G-IV_TM-POA.tif;C:\Users\projeto-smamus\Desktop\Aerolevantamentos\2010\MDS&amp;MDT\MDT\RASTER/MDT_2987-2-G-I_TM-POA.tif;C:\Users\projeto-smamus\Desktop\Aerolevantamentos\2010\MDS&amp;MDT\MDT\RASTER/MDT_2987-2-H-III_TM-POA.tif;C:\Users\projeto-smamus\Desktop\Aerolevantamentos\2010\MDS&amp;MDT\MDT\RASTER/MDT_2987-2-H-II_TM-POA.tif;C:\Users\projeto-smamus\Desktop\Aerolevantamentos\2010\MDS&amp;MDT\MDT\RASTER/MDT_2987-2-H-IV_TM-POA.tif;C:\Users\projeto-smamus\Desktop\Aerolevantamentos\2010\MDS&amp;MDT\MDT\RASTER/MDT_2987-2-H-I_TM-POA.tif;C:\Users\projeto-smamus\Desktop\Aerolevantamentos\2010\MDS&amp;MDT\MDT\RASTER/MDT_2987-2-I-III_TM-POA.tif;C:\Users\projeto-smamus\Desktop\Aerolevantamentos\2010\MDS&amp;MDT\MDT\RASTER/MDT_2987-2-I-I_TM-POA.tif;C:\Users\projeto-smamus\Desktop\Aerolevantamentos\2010\MDS&amp;MDT\MDT\RASTER/MDT_2987-2-K-III_TM-POA.tif;C:\Users\projeto-smamus\Desktop\Aerolevantamentos\2010\MDS&amp;MDT\MDT\RASTER/MDT_2987-2-K-II_TM-POA.tif;C:\Users\projeto-smamus\Desktop\Aerolevantamentos\2010\MDS&amp;MDT\MDT\RASTER/MDT_2987-2-K-IV_TM-POA.tif;C:\Users\projeto-smamus\Desktop\Aerolevantamentos\2010\MDS&amp;MDT\MDT\RASTER/MDT_2987-2-K-I_TM-POA.tif;C:\Users\projeto-smamus\Desktop\Aerolevantamentos\2010\MDS&amp;MDT\MDT\RASTER/MDT_2987-2-L-III_TM-POA.tif;C:\Users\projeto-smamus\Desktop\Aerolevantamentos\2010\MDS&amp;MDT\MDT\RASTER/MDT_2987-2-L-II_TM-POA.tif;C:\Users\projeto-smamus\Desktop\Aerolevantamentos\2010\MDS&amp;MDT\MDT\RASTER/MDT_2987-2-L-IV_TM-POA.tif;C:\Users\projeto-smamus\Desktop\Aerolevantamentos\2010\MDS&amp;MDT\MDT\RASTER/MDT_2987-2-L-I_TM-POA.tif;C:\Users\projeto-smamus\Desktop\Aerolevantamentos\2010\MDS&amp;MDT\MDT\RASTER/MDT_2987-2-M-III_TM-POA.tif;C:\Users\projeto-smamus\Desktop\Aerolevantamentos\2010\MDS&amp;MDT\MDT\RASTER/MDT_2987-2-M-II_TM-POA.tif;C:\Users\projeto-smamus\Desktop\Aerolevantamentos\2010\MDS&amp;MDT\MDT\RASTER/MDT_2987-2-M-IV_TM-POA.tif;C:\Users\projeto-smamus\Desktop\Aerolevantamentos\2010\MDS&amp;MDT\MDT\RASTER/MDT_2987-2-M-I_TM-POA.tif;C:\Users\projeto-smamus\Desktop\Aerolevantamentos\2010\MDS&amp;MDT\MDT\RASTER/MDT_2987-2-N-III_TM-POA.tif;C:\Users\projeto-smamus\Desktop\Aerolevantamentos\2010\MDS&amp;MDT\MDT\RASTER/MDT_2987-2-N-II_TM-POA.tif;C:\Users\projeto-smamus\Desktop\Aerolevantamentos\2010\MDS&amp;MDT\MDT\RASTER/MDT_2987-2-N-IV_TM-POA.tif;C:\Users\projeto-smamus\Desktop\Aerolevantamentos\2010\MDS&amp;MDT\MDT\RASTER/MDT_2987-2-N-I_TM-POA.tif;C:\Users\projeto-smamus\Desktop\Aerolevantamentos\2010\MDS&amp;MDT\MDT\RASTER/MDT_2987-2-P-III_TM-POA.tif;C:\Users\projeto-smamus\Desktop\Aerolevantamentos\2010\MDS&amp;MDT\MDT\RASTER/MDT_2987-2-P-II_TM-POA.tif;C:\Users\projeto-smamus\Desktop\Aerolevantamentos\2010\MDS&amp;MDT\MDT\RASTER/MDT_2987-2-P-IV_TM-POA.tif;C:\Users\projeto-smamus\Desktop\Aerolevantamentos\2010\MDS&amp;MDT\MDT\RASTER/MDT_2987-2-P-I_TM-POA.tif;C:\Users\projeto-smamus\Desktop\Aerolevantamentos\2010\MDS&amp;MDT\MDT\RASTER/MDT_2987-2-Q-III_TM-POA.tif;C:\Users\projeto-smamus\Desktop\Aerolevantamentos\2010\MDS&amp;MDT\MDT\RASTER/MDT_2987-2-Q-II_TM-POA.tif;C:\Users\projeto-smamus\Desktop\Aerolevantamentos\2010\MDS&amp;MDT\MDT\RASTER/MDT_2987-2-Q-IV_TM-POA.tif;C:\Users\projeto-smamus\Desktop\Aerolevantamentos\2010\MDS&amp;MDT\MDT\RASTER/MDT_2987-2-Q-I_TM-POA.tif;C:\Users\projeto-smamus\Desktop\Aerolevantamentos\2010\MDS&amp;MDT\MDT\RASTER/MDT_2987-2-R-III_TM-POA.tif;C:\Users\projeto-smamus\Desktop\Aerolevantamentos\2010\MDS&amp;MDT\MDT\RASTER/MDT_2987-2-R-II_TM-POA.tif;C:\Users\projeto-smamus\Desktop\Aerolevantamentos\2010\MDS&amp;MDT\MDT\RASTER/MDT_2987-2-R-IV_TM-POA.tif;C:\Users\projeto-smamus\Desktop\Aerolevantamentos\2010\MDS&amp;MDT\MDT\RASTER/MDT_2987-2-R-I_TM-POA.tif;C:\Users\projeto-smamus\Desktop\Aerolevantamentos\2010\MDS&amp;MDT\MDT\RASTER/MDT_2987-2-S-III_TM-POA.tif;C:\Users\projeto-smamus\Desktop\Aerolevantamentos\2010\MDS&amp;MDT\MDT\RASTER/MDT_2987-2-S-II_TM-POA.tif;C:\Users\projeto-smamus\Desktop\Aerolevantamentos\2010\MDS&amp;MDT\MDT\RASTER/MDT_2987-2-S-IV_TM-POA.tif;C:\Users\projeto-smamus\Desktop\Aerolevantamentos\2010\MDS&amp;MDT\MDT\RASTER/MDT_2987-2-S-I_TM-POA.tif;C:\Users\projeto-smamus\Desktop\Aerolevantamentos\2010\MDS&amp;MDT\MDT\RASTER/MDT_2987-2-T-III_TM-POA.tif;C:\Users\projeto-smamus\Desktop\Aerolevantamentos\2010\MDS&amp;MDT\MDT\RASTER/MDT_2987-2-T-IV_TM-POA.tif;C:\Users\projeto-smamus\Desktop\Aerolevantamentos\2010\MDS&amp;MDT\MDT\RASTER/MDT_2987-2-V-III_TM-POA.tif;C:\Users\projeto-smamus\Desktop\Aerolevantamentos\2010\MDS&amp;MDT\MDT\RASTER/MDT_2987-2-V-II_TM-POA.tif;C:\Users\projeto-smamus\Desktop\Aerolevantamentos\2010\MDS&amp;MDT\MDT\RASTER/MDT_2987-2-V-IV_TM-POA.tif;C:\Users\projeto-smamus\Desktop\Aerolevantamentos\2010\MDS&amp;MDT\MDT\RASTER/MDT_2987-2-V-I_TM-POA.tif;C:\Users\projeto-smamus\Desktop\Aerolevantamentos\2010\MDS&amp;MDT\MDT\RASTER/MDT_2987-2-X-III_TM-POA.tif;C:\Users\projeto-smamus\Desktop\Aerolevantamentos\2010\MDS&amp;MDT\MDT\RASTER/MDT_2987-2-X-II_TM-POA.tif;C:\Users\projeto-smamus\Desktop\Aerolevantamentos\2010\MDS&amp;MDT\MDT\RASTER/MDT_2987-2-X-IV_TM-POA.tif;C:\Users\projeto-smamus\Desktop\Aerolevantamentos\2010\MDS&amp;MDT\MDT\RASTER/MDT_2987-2-X-I_TM-POA.tif;C:\Users\projeto-smamus\Desktop\Aerolevantamentos\2010\MDS&amp;MDT\MDT\RASTER/MDT_2987-2-Y-III_TM-POA.tif;C:\Users\projeto-smamus\Desktop\Aerolevantamentos\2010\MDS&amp;MDT\MDT\RASTER/MDT_2987-2-Y-II_TM-POA.tif;C:\Users\projeto-smamus\Desktop\Aerolevantamentos\2010\MDS&amp;MDT\MDT\RASTER/MDT_2987-2-Y-IV_TM-POA.tif;C:\Users\projeto-smamus\Desktop\Aerolevantamentos\2010\MDS&amp;MDT\MDT\RASTER/MDT_2987-2-Y-I_TM-POA.tif;C:\Users\projeto-smamus\Desktop\Aerolevantamentos\2010\MDS&amp;MDT\MDT\RASTER/MDT_2987-2-Z-III_TM-POA.tif;C:\Users\projeto-smamus\Desktop\Aerolevantamentos\2010\MDS&amp;MDT\MDT\RASTER/MDT_2987-2-Z-II_TM-POA.tif;C:\Users\projeto-smamus\Desktop\Aerolevantamentos\2010\MDS&amp;MDT\MDT\RASTER/MDT_2987-2-Z-I_TM-POA.tif;C:\Users\projeto-smamus\Desktop\Aerolevantamentos\2010\MDS&amp;MDT\MDT\RASTER/MDT_2987-4-B-II_TM-POA.tif;C:\Users\projeto-smamus\Desktop\Aerolevantamentos\2010\MDS&amp;MDT\MDT\RASTER/MDT_2987-4-C-II_TM-POA.tif;C:\Users\projeto-smamus\Desktop\Aerolevantamentos\2010\MDS&amp;MDT\MDT\RASTER/MDT_2987-4-C-I_TM-POA.tif;C:\Users\projeto-smamus\Desktop\Aerolevantamentos\2010\MDS&amp;MDT\MDT\RASTER/MDT_2987-4-D-II_TM-POA.tif;C:\Users\projeto-smamus\Desktop\Aerolevantamentos\2010\MDS&amp;MDT\MDT\RASTER/MDT_2987-4-D-I_TM-POA.tif C:\Users\codex\Documents\SMAMUS\OS004_URBAN_V2 mdt_2010.tif # "32 bit float" # 1 Last First</Process>
<Process Date="20240408" Time="100109" ToolSource="c:\program files\arcgis\pro\Resources\ArcToolbox\toolboxes\Data Management Tools.tbx\CopyRaster">CopyRaster mdt_2010.tif C:\Users\codex\Documents\SMAMUS\OS004_URBAN_V2\aprx\UrbanStaging.gdb\mdt_2010_tif # # # NONE NONE # NONE NONE "Esri Grid format" NONE CURRENT_SLICE NO_TRANSPOSE</Process>
<Process Date="20240802" Time="094505" ToolSource="c:\program files\arcgis\pro\Resources\ArcToolbox\Toolboxes\Data Management Tools.tbx\CopyMultiple">CopyMultiple "C:\Users\codex\Documents\SMAMUS\OS004_URBAN_V2\aprx\UrbanStaging.gdb\mdt_2010_tif RasterDataset" C:\Users\codex\Documents\SMAMUS\OS004_URBAN_V2\aprx\mdt_2010.gdb mdt_2010_tif "mdt_2010_tif RasterDataset mdt_2010_tif #"</Process>
<Process Date="20240805" Time="112801" ToolSource="c:\program files\arcgis\pro\Resources\ArcToolbox\Toolboxes\Data Management Tools.tbx\Rename">Rename C:\Users\administrator\Documents\Migracao\arcgis-urban-aprx\mdt_2010.gdb\mdt_2010_tif C:\Users\administrator\Documents\Migracao\arcgis-urban-aprx\mdt_2010.gdb\urb_mdt_2010_tif RasterDataset</Process>
<Process Date="20240805" Time="113017" ToolSource="c:\program files\arcgis\pro\Resources\ArcToolbox\Toolboxes\Data Management Tools.tbx\CopyMultiple">CopyMultiple "C:\Users\administrator\Documents\Migracao\arcgis-urban-aprx\mdt_2010.gdb\urb_mdt_2010_tif RasterDataset" C:\Users\administrator\Documents\Migracao\arcgis-urban-aprx\PostgreSQL-10-gisdb(gisdb).sde urb_mdt_2010_tif "urb_mdt_2010_tif RasterDataset gisdb.gisdb.urb_mdt_2010_tif #"</Process>
<Process Date="20240805" Time="113034" ToolSource="c:\program files\arcgis\pro\Resources\ArcToolbox\Toolboxes\Data Management Tools.tbx\Rename">Rename C:\Users\administrator\Documents\Migracao\arcgis-urban-aprx\PostgreSQL-10-gisdb(gisdb).sde\gisdb.gisdb.urb_mdt_2010_tif C:\Users\administrator\Documents\Migracao\arcgis-urban-aprx\PostgreSQL-10-gisdb(gisdb).sde\gisdb.gisdb.urb_mdt_2010 RasterDataset</Process>
<Process Date="20240806" Time="111439" ToolSource="c:\program files\arcgis\pro\Resources\ArcToolbox\toolboxes\Data Management Tools.tbx\ProjectRaster">ProjectRaster C:\Users\administrator\Documents\Migracao\arcgis-urban-aprx\PostgreSQL-10-gisdb(gisdb).sde\gisdb.gisdb.urb_mdt_2010 C:\Users\administrator\Documents\Migracao\arcgis-urban-aprx\PostgreSQL-10-gisdb(gisdb).sde\gisdb.gisdb.urb_mdt_2010_102100 PROJCS["WGS_1984_Web_Mercator_Auxiliary_Sphere",GEOGCS["GCS_WGS_1984",DATUM["D_WGS_1984",SPHEROID["WGS_1984",6378137.0,298.257223563]],PRIMEM["Greenwich",0.0],UNIT["Degree",0.0174532925199433]],PROJECTION["Mercator_Auxiliary_Sphere"],PARAMETER["False_Easting",0.0],PARAMETER["False_Northing",0.0],PARAMETER["Central_Meridian",0.0],PARAMETER["Standard_Parallel_1",0.0],PARAMETER["Auxiliary_Sphere_Type",0.0],UNIT["Meter",1.0]] "Nearest neighbor" "1 1" SIRGAS_2000_To_WGS_1984_1 # PROJCS["TM_POA",GEOGCS["GCS_SIRGAS_2000",DATUM["D_SIRGAS_2000",SPHEROID["GRS_1980",6378137.0,298.257222101]],PRIMEM["Greenwich",0.0],UNIT["Degree",0.0174532925199433]],PROJECTION["Transverse_Mercator"],PARAMETER["false_easting",300000.0],PARAMETER["false_northing",5000000.0],PARAMETER["central_meridian",-51.0],PARAMETER["scale_factor",0.999995],PARAMETER["latitude_of_origin",0.0],UNIT["Meter",1.0]] NO_VERTICAL</Process>
</lineage>
</DataProperties>
<SyncDate>20240806</SyncDate>
<SyncTime>11143900</SyncTime>
<ModDate>20240806</ModDate>
<ModTime>11143900</ModTime>
</Esri>
<dataIdInfo>
<envirDesc Sync="TRUE">Microsoft Windows Server 2016 Technical Preview Version 10.0 (Build 17763) ; Esri ArcGIS 13.2.0.49743</envirDesc>
<dataLang>
<languageCode Sync="TRUE" value="por"/>
<countryCode Sync="TRUE" value="BRA"/>
</dataLang>
<idCitation>
<resTitle Sync="TRUE">urb_mdt_2010_102100</resTitle>
<presForm>
<PresFormCd Sync="TRUE" value="011"/>
</presForm>
</idCitation>
<spatRpType>
<SpatRepTypCd Sync="TRUE" value="002"/>
</spatRpType>
<dataExt>
<geoEle>
<GeoBndBox esriExtentType="search">
<exTypeCode Sync="TRUE">1</exTypeCode>
<westBL Sync="TRUE">-51.306543</westBL>
<eastBL Sync="TRUE">-51.004170</eastBL>
<northBL Sync="TRUE">-29.928467</northBL>
<southBL Sync="TRUE">-30.270675</southBL>
</GeoBndBox>
</geoEle>
</dataExt>
<idAbs/>
<idPurp/>
<idCredit/>
<resConst>
<Consts>
<useLimit/>
</Consts>
</resConst>
</dataIdInfo>
<mdLang>
<languageCode Sync="TRUE" value="por"/>
<countryCode Sync="TRUE" value="BRA"/>
</mdLang>
<mdChar>
<CharSetCd Sync="TRUE" value="004"/>
</mdChar>
<distInfo>
<distFormat>
<formatName Sync="TRUE">Enterprise Geodatabase Raster Dataset</formatName>
</distFormat>
</distInfo>
<mdHrLv>
<ScopeCd Sync="TRUE" value="005"/>
</mdHrLv>
<mdHrLvName Sync="TRUE">dataset</mdHrLvName>
<refSysInfo>
<RefSystem>
<refSysID>
<identCode Sync="TRUE" code="3857"/>
<idCodeSpace Sync="TRUE">EPSG</idCodeSpace>
<idVersion Sync="TRUE">6.18.3(9.3.1.2)</idVersion>
</refSysID>
</RefSystem>
</refSysInfo>
<spatRepInfo>
<Georect>
<cellGeo>
<CellGeoCd Sync="TRUE" value="002"/>
</cellGeo>
<numDims Sync="TRUE">2</numDims>
<tranParaAv Sync="TRUE">1</tranParaAv>
<chkPtAv Sync="TRUE">0</chkPtAv>
<cornerPts>
<pos Sync="TRUE">270504.924510 1649338.408388</pos>
</cornerPts>
<cornerPts>
<pos Sync="TRUE">270504.924510 1688235.408388</pos>
</cornerPts>
<cornerPts>
<pos Sync="TRUE">299596.924510 1688235.408388</pos>
</cornerPts>
<cornerPts>
<pos Sync="TRUE">299596.924510 1649338.408388</pos>
</cornerPts>
<centerPt>
<pos Sync="TRUE">285050.924510 1668786.908388</pos>
</centerPt>
<axisDimension type="002">
<dimSize Sync="TRUE">29092</dimSize>
<dimResol>
<value Sync="TRUE" uom="m">1.000000</value>
</dimResol>
</axisDimension>
<axisDimension type="001">
<dimSize Sync="TRUE">38897</dimSize>
<dimResol>
<value Sync="TRUE" uom="m">1.000000</value>
</dimResol>
</axisDimension>
<ptInPixel>
<PixOrientCd Sync="TRUE" value="001"/>
</ptInPixel>
</Georect>
</spatRepInfo>
<contInfo>
<ImgDesc>
<contentTyp>
<ContentTypCd Sync="TRUE" value="001"/>
</contentTyp>
<covDim>
<Band>
<dimDescrp Sync="TRUE">Band_1</dimDescrp>
<maxVal Sync="TRUE">310.630005</maxVal>
<minVal Sync="TRUE">-1.278000</minVal>
<bitsPerVal Sync="TRUE">32</bitsPerVal>
<valUnit>
<UOM type="length"/>
</valUnit>
</Band>
</covDim>
</ImgDesc>
</contInfo>
<mdDateSt Sync="TRUE">20240806</mdDateSt>
<spdoinfo>
<rastinfo>
<rasttype Sync="TRUE">Pixel</rasttype>
<rowcount Sync="TRUE">44032</rowcount>
<colcount Sync="TRUE">33660</colcount>
<rastxsz Sync="TRUE">1,000000</rastxsz>
<rastysz Sync="TRUE">1,000000</rastysz>
<rastbpp Sync="TRUE">32</rastbpp>
<vrtcount Sync="TRUE">1</vrtcount>
<rastorig Sync="TRUE">Upper Left</rastorig>
<rastcmap Sync="TRUE">FALSE</rastcmap>
<rastcomp Sync="TRUE">LZ77</rastcomp>
<rastband Sync="TRUE">1</rastband>
<rastdtyp Sync="TRUE">pixel codes</rastdtyp>
<rastifor Sync="TRUE">SDR</rastifor>
<rastplyr Sync="TRUE">TRUE</rastplyr>
</rastinfo>
</spdoinfo>
<spref>
<horizsys>
<planar>
<planci>
<plance Sync="TRUE">row and column</plance>
<coordrep>
<absres Sync="TRUE">1,000000</absres>
<ordres Sync="TRUE">1,000000</ordres>
</coordrep>
</planci>
</planar>
</horizsys>
</spref>
</metadata>
